BEGIN:VCALENDAR
VERSION:2.0
PRODID:-//Andrea Pögl-Buchner - ECPv6.15.20//NONSGML v1.0//EN
CALSCALE:GREGORIAN
METHOD:PUBLISH
X-ORIGINAL-URL:https://www.andreapoegl.at
X-WR-CALDESC:Veranstaltungen für Andrea Pögl-Buchner
REFRESH-INTERVAL;VALUE=DURATION:PT1H
X-Robots-Tag:noindex
X-PUBLISHED-TTL:PT1H
BEGIN:VTIMEZONE
TZID:Europe/Vienna
BEGIN:DAYLIGHT
TZOFFSETFROM:+0100
TZOFFSETTO:+0200
TZNAME:CEST
DTSTART:20220327T010000
END:DAYLIGHT
BEGIN:STANDARD
TZOFFSETFROM:+0200
TZOFFSETTO:+0100
TZNAME:CET
DTSTART:20221030T010000
END:STANDARD
BEGIN:DAYLIGHT
TZOFFSETFROM:+0100
TZOFFSETTO:+0200
TZNAME:CEST
DTSTART:20230326T010000
END:DAYLIGHT
BEGIN:STANDARD
TZOFFSETFROM:+0200
TZOFFSETTO:+0100
TZNAME:CET
DTSTART:20231029T010000
END:STANDARD
BEGIN:DAYLIGHT
TZOFFSETFROM:+0100
TZOFFSETTO:+0200
TZNAME:CEST
DTSTART:20240331T010000
END:DAYLIGHT
BEGIN:STANDARD
TZOFFSETFROM:+0200
TZOFFSETTO:+0100
TZNAME:CET
DTSTART:20241027T010000
END:STANDARD
END:VTIMEZONE
BEGIN:VEVENT
DTSTART;TZID=Europe/Vienna:20231213T183000
DTEND;TZID=Europe/Vienna:20231213T203000
DTSTAMP:20260421T162038
CREATED:20231020T150318Z
LAST-MODIFIED:20231102T095327Z
UID:1046-1702492200-1702499400@www.andreapoegl.at
SUMMARY:Infoabend in der Praxis: Ausbildung zum Natur-Energetik Coach
DESCRIPTION:Ausbildung zum Natur-Energetik Coach\nGeh in deiner Persönlichkeitsentwicklung einen Schritt weiter – in eine neue Dimension.
URL:https://www.andreapoegl.at/event/infoabend/
LOCATION:Steinkreis – Bad Sauerbrunn
CATEGORIES:all,Natur-Energetik-Coach
ATTACH;FMTTYPE=image/jpeg:https://www.andreapoegl.at/wp-content/uploads/2023/10/Ausbildung_Web.jpg
ORGANIZER;CN="Andrea P%C3%B6gl-Buchner":MAILTO:info@andreapoegl.at
END:VEVENT
BEGIN:VEVENT
DTSTART;TZID=Europe/Vienna:20231216T090000
DTEND;TZID=Europe/Vienna:20231217T170000
DTSTAMP:20260421T162038
CREATED:20231020T155331Z
LAST-MODIFIED:20231020T155331Z
UID:1069-1702717200-1702832400@www.andreapoegl.at
SUMMARY:8. Ausbildungsmodul „Yule-Wintersonnwende“
DESCRIPTION:Ausbildung Natur-Energetik-Coach 2023/24
URL:https://www.andreapoegl.at/event/yule/
LOCATION:Seminarhotel Flackl\, Hinterleiten 12\, Reichenau / Rax\, 2651\, Austria
CATEGORIES:all,Natur-Energetik-Coach
ATTACH;FMTTYPE=image/jpeg:https://www.andreapoegl.at/wp-content/uploads/2023/10/Ausbildung_Web.jpg
ORGANIZER;CN="Andrea P%C3%B6gl-Buchner":MAILTO:info@andreapoegl.at
END:VEVENT
END:VCALENDAR